Workbook

Sheet Annual Overview
A1: 2027 Availability & Pricing
A3: Weekend breaks run Friday to Monday. Midweek breaks run Monday to Friday.
B5: AVAILABLE | F5: PROVISIONALLY HELD | J5: BOOKED
A7: Select a month tab for full details, or use Find a Stay to search a specific date.
A10: JANUARY | E10: FEBRUARY | I10: MARCH
A11: PARK CLOSED | E11: PARK CLOSED | I11: =TEXT('Update Availability'!A11,"ddd d mmm")&" - "&TEXT('Update Availability'!B11,"ddd d mmm")&" | "&TEXT('Update Availability'!D11,"£0")&" | "&UPPER('Update Availability'!E11) -> Mon 1 Mar - Fri 5 Mar | £300 | AVAILABLE
A12: PARK CLOSED | E12: PARK CLOSED | I12: =TEXT('Update Availability'!A12,"ddd d mmm")&" - "&TEXT('Update Availability'!B12,"ddd d mmm")&" | "&TEXT('Update Availability'!D12,"£0")&" | "&UPPER('Update Availability'!E12) -> Fri 5 Mar - Mon 8 Mar | £300 | AVAILABLE
A13: PARK CLOSED | E13: PARK CLOSED | I13: =TEXT('Update Availability'!A13,"ddd d mmm")&" - "&TEXT('Update Availability'!B13,"ddd d mmm")&" | "&TEXT('Update Availability'!D13,"£0")&" | "&UPPER('Update Availability'!E13) -> Mon 8 Mar - Fri 12 Mar | £300 | AVAILABLE
A14: PARK CLOSED | E14: =TEXT('Update Availability'!A6,"ddd d mmm")&" - "&TEXT('Update Availability'!B6,"ddd d mmm")&" | "&TEXT('Update Availability'!D6,"£0")&" | "&UPPER('Update Availability'!E6) -> Fri 12 Feb - Mon 15 Feb | £400 | BOOKED | I14: =TEXT('Update Availability'!A14,"ddd d mmm")&" - "&TEXT('Update Availability'!B14,"ddd d mmm")&" | "&TEXT('Update Availability'!D14,"£0")&" | "&UPPER('Update Availability'!E14) -> Fri 12 Mar - Mon 15 Mar | £300 | AVAILABLE
A15: PARK CLOSED | E15: =TEXT('Update Availability'!A7,"ddd d mmm")&" - "&TEXT('Update Availability'!B7,"ddd d mmm")&" | "&TEXT('Update Availability'!D7,"£0")&" | "&UPPER('Update Availability'!E7) -> Mon 15 Feb - Fri 19 Feb | £400 | AVAILABLE | I15: =TEXT('Update Availability'!A15,"ddd d mmm")&" - "&TEXT('Update Availability'!B15,"ddd d mmm")&" | "&TEXT('Update Availability'!D15,"£0")&" | "&UPPER('Update Availability'!E15) -> Mon 15 Mar - Fri 19 Mar | £300 | AVAILABLE
A16: PARK CLOSED | E16: =TEXT('Update Availability'!A8,"ddd d mmm")&" - "&TEXT('Update Availability'!B8,"ddd d mmm")&" | "&TEXT('Update Availability'!D8,"£0")&" | "&UPPER('Update Availability'!E8) -> Fri 19 Feb - Mon 22 Feb | £400 | AVAILABLE | I16: =TEXT('Update Availability'!A16,"ddd d mmm")&" - "&TEXT('Update Availability'!B16,"ddd d mmm")&" | "&TEXT('Update Availability'!D16,"£0")&" | "&UPPER('Update Availability'!E16) -> Fri 19 Mar - Mon 22 Mar | £300 | AVAILABLE
A17: PARK CLOSED | E17: =TEXT('Update Availability'!A9,"ddd d mmm")&" - "&TEXT('Update Availability'!B9,"ddd d mmm")&" | "&TEXT('Update Availability'!D9,"£0")&" | "&UPPER('Update Availability'!E9) -> Mon 22 Feb - Fri 26 Feb | £400 | AVAILABLE | I17: =TEXT('Update Availability'!A17,"ddd d mmm")&" - "&TEXT('Update Availability'!B17,"ddd d mmm")&" | "&TEXT('Update Availability'!D17,"£0")&" | "&UPPER('Update Availability'!E17) -> Mon 22 Mar - Fri 26 Mar | £300 | AVAILABLE
A18: PARK CLOSED | E18: =TEXT('Update Availability'!A10,"ddd d mmm")&" - "&TEXT('Update Availability'!B10,"ddd d mmm")&" | "&TEXT('Update Availability'!D10,"£0")&" | "&UPPER('Update Availability'!E10) -> Fri 26 Feb - Mon 1 Mar | £300 | AVAILABLE | I18: =TEXT('Update Availability'!A18,"ddd d mmm")&" - "&TEXT('Update Availability'!B18,"ddd d mmm")&" | "&TEXT('Update Availability'!D18,"£0")&" | "&UPPER('Update Availability'!E18) -> Fri 26 Mar - Mon 29 Mar | £500 | BOOKED
A19: PARK CLOSED | I19: =TEXT('Update Availability'!A19,"ddd d mmm")&" - "&TEXT('Update Availability'!B19,"ddd d mmm")&" | "&TEXT('Update Availability'!D19,"£0")&" | "&UPPER('Update Availability'!E19) -> Mon 29 Mar - Fri 2 Apr | £500 | BOOKED
E20: =COUNTIF('Update Availability'!E14:E18,"Available")&" of 5 stays available" -> 4 of 5 stays available | I20: =COUNTIF('Update Availability'!E11:E19,"Available")&" of 9 stays available" -> 7 of 9 stays available
A23: APRIL | E23: MAY | I23: JUNE
A24: =TEXT('Update Availability'!A20,"ddd d mmm")&" - "&TEXT('Update Availability'!B20,"ddd d mmm")&" | "&TEXT('Update Availability'!D20,"£0")&" | "&UPPER('Update Availability'!E20) -> Fri 2 Apr - Mon 5 Apr | £500 | AVAILABLE | E24: =TEXT('Update Availability'!A29,"ddd d mmm")&" - "&TEXT('Update Availability'!B29,"ddd d mmm")&" | "&TEXT('Update Availability'!D29,"£0")&" | "&UPPER('Update Availability'!E29) -> Mon 3 May - Fri 7 May | £300 | AVAILABLE | I24: =TEXT('Update Availability'!A38,"ddd d mmm")&" - "&TEXT('Update Availability'!B38,"ddd d mmm")&" | "&TEXT('Update Availability'!D38,"£0")&" | "&UPPER('Update Availability'!E38) -> Fri 4 Jun - Mon 7 Jun | £500 | BOOKED
A25: =TEXT('Update Availability'!A21,"ddd d mmm")&" - "&TEXT('Update Availability'!B21,"ddd d mmm")&" | "&TEXT('Update Availability'!D21,"£0")&" | "&UPPER('Update Availability'!E21) -> Mon 5 Apr - Fri 9 Apr | £500 | PROVISIONALLY HELD | E25: =TEXT('Update Availability'!A30,"ddd d mmm")&" - "&TEXT('Update Availability'!B30,"ddd d mmm")&" | "&TEXT('Update Availability'!D30,"£0")&" | "&UPPER('Update Availability'!E30) -> Fri 7 May - Mon 10 May | £300 | BOOKED | I25: =TEXT('Update Availability'!A39,"ddd d mmm")&" - "&TEXT('Update Availability'!B39,"ddd d mmm")&" | "&TEXT('Update Availability'!D39,"£0")&" | "&UPPER('Update Availability'!E39) -> Mon 7 Jun - Fri 11 Jun | £500 | BOOKED
A26: =TEXT('Update Availability'!A22,"ddd d mmm")&" - "&TEXT('Update Availability'!B22,"ddd d mmm")&" | "&TEXT('Update Availability'!D22,"£0")&" | "&UPPER('Update Availability'!E22) -> Fri 9 Apr - Mon 12 Apr | £500 | AVAILABLE | E26: =TEXT('Update Availability'!A31,"ddd d mmm")&" - "&TEXT('Update Availability'!B31,"ddd d mmm")&" | "&TEXT('Update Availability'!D31,"£0")&" | "&UPPER('Update Availability'!E31) -> Mon 10 May - Fri 14 May | £300 | AVAILABLE | I26: =TEXT('Update Availability'!A40,"ddd d mmm")&" - "&TEXT('Update Availability'!B40,"ddd d mmm")&" | "&TEXT('Update Availability'!D40,"£0")&" | "&UPPER('Update Availability'!E40) -> Fri 11 Jun - Mon 14 Jun | £450 | AVAILABLE
A27: =TEXT('Update Availability'!A23,"ddd d mmm")&" - "&TEXT('Update Availability'!B23,"ddd d mmm")&" | "&TEXT('Update Availability'!D23,"£0")&" | "&UPPER('Update Availability'!E23) -> Mon 12 Apr - Fri 16 Apr | £500 | AVAILABLE | E27: =TEXT('Update Availability'!A32,"ddd d mmm")&" - "&TEXT('Update Availability'!B32,"ddd d mmm")&" | "&TEXT('Update Availability'!D32,"£0")&" | "&UPPER('Update Availability'!E32) -> Fri 14 May - Mon 17 May | £300 | AVAILABLE | I27: =TEXT('Update Availability'!A41,"ddd d mmm")&" - "&TEXT('Update Availability'!B41,"ddd d mmm")&" | "&TEXT('Update Availability'!D41,"£0")&" | "&UPPER('Update Availability'!E41) -> Mon 14 Jun - Fri 18 Jun | £450 | AVAILABLE
A28: =TEXT('Update Availability'!A24,"ddd d mmm")&" - "&TEXT('Update Availability'!B24,"ddd d mmm")&" | "&TEXT('Update Availability'!D24,"£0")&" | "&UPPER('Update Availability'!E24) -> Fri 16 Apr - Mon 19 Apr | £300 | AVAILABLE | E28: =TEXT('Update Availability'!A33,"ddd d mmm")&" - "&TEXT('Update Availability'!B33,"ddd d mmm")&" | "&TEXT('Update Availability'!D33,"£0")&" | "&UPPER('Update Availability'!E33) -> Mon 17 May - Fri 21 May | £300 | AVAILABLE | I28: =TEXT('Update Availability'!A42,"ddd d mmm")&" - "&TEXT('Update Availability'!B42,"ddd d mmm")&" | "&TEXT('Update Availability'!D42,"£0")&" | "&UPPER('Update Availability'!E42) -> Fri 18 Jun - Mon 21 Jun | £450 | AVAILABLE
A29: =TEXT('Update Availability'!A25,"ddd d mmm")&" - "&TEXT('Update Availability'!B25,"ddd d mmm")&" | "&TEXT('Update Availability'!D25,"£0")&" | "&UPPER('Update Availability'!E25) -> Mon 19 Apr - Fri 23 Apr | £300 | AVAILABLE | E29: =TEXT('Update Availability'!A34,"ddd d mmm")&" - "&TEXT('Update Availability'!B34,"ddd d mmm")&" | "&TEXT('Update Availability'!D34,"£0")&" | "&UPPER('Update Availability'!E34) -> Fri 21 May - Mon 24 May | £300 | BOOKED | I29: =TEXT('Update Availability'!A43,"ddd d mmm")&" - "&TEXT('Update Availability'!B43,"ddd d mmm")&" | "&TEXT('Update Availability'!D43,"£0")&" | "&UPPER('Update Availability'!E43) -> Mon 21 Jun - Fri 25 Jun | £450 | AVAILABLE
A30: =TEXT('Update Availability'!A26,"ddd d mmm")&" - "&TEXT('Update Availability'!B26,"ddd d mmm")&" | "&TEXT('Update Availability'!D26,"£0")&" | "&UPPER('Update Availability'!E26) -> Fri 23 Apr - Mon 26 Apr | £300 | AVAILABLE | E30: =TEXT('Update Availability'!A35,"ddd d mmm")&" - "&TEXT('Update Availability'!B35,"ddd d mmm")&" | "&TEXT('Update Availability'!D35,"£0")&" | "&UPPER('Update Availability'!E35) -> Mon 24 May - Fri 28 May | £300 | AVAILABLE | I30: =TEXT('Update Availability'!A44,"ddd d mmm")&" - "&TEXT('Update Availability'!B44,"ddd d mmm")&" | "&TEXT('Update Availability'!D44,"£0")&" | "&UPPER('Update Availability'!E44) -> Fri 25 Jun - Mon 28 Jun | £450 | AVAILABLE
A31: =TEXT('Update Availability'!A27,"ddd d mmm")&" - "&TEXT('Update Availability'!B27,"ddd d mmm")&" | "&TEXT('Update Availability'!D27,"£0")&" | "&UPPER('Update Availability'!E27) -> Mon 26 Apr - Fri 30 Apr | £300 | AVAILABLE | E31: =TEXT('Update Availability'!A36,"ddd d mmm")&" - "&TEXT('Update Availability'!B36,"ddd d mmm")&" | "&TEXT('Update Availability'!D36,"£0")&" | "&UPPER('Update Availability'!E36) -> Fri 28 May - Mon 31 May | £500 | BOOKED | I31: =TEXT('Update Availability'!A45,"ddd d mmm")&" - "&TEXT('Update Availability'!B45,"ddd d mmm")&" | "&TEXT('Update Availability'!D45,"£0")&" | "&UPPER('Update Availability'!E45) -> Mon 28 Jun - Fri 2 Jul | £450 | BOOKED
A32: =TEXT('Update Availability'!A28,"ddd d mmm")&" - "&TEXT('Update Availability'!B28,"ddd d mmm")&" | "&TEXT('Update Availability'!D28,"£0")&" | "&UPPER('Update Availability'!E28) -> Fri 30 Apr - Mon 3 May | £300 | AVAILABLE | E32: =TEXT('Update Availability'!A37,"ddd d mmm")&" - "&TEXT('Update Availability'!B37,"ddd d mmm")&" | "&TEXT('Update Availability'!D37,"£0")&" | "&UPPER('Update Availability'!E37) -> Mon 31 May - Fri 4 Jun | £500 | BOOKED
A33: =COUNTIF('Update Availability'!E20:E28,"Available")&" of 9 stays available" -> 8 of 9 stays available | E33: =COUNTIF('Update Availability'!E29:E37,"Available")&" of 9 stays available" -> 5 of 9 stays available | I33: =COUNTIF('Update Availability'!E38:E45,"Available")&" of 8 stays available" -> 5 of 8 stays available
A36: JULY | E36: AUGUST | I36: SEPTEMBER
A37: =TEXT('Update Availability'!A46,"ddd d mmm")&" - "&TEXT('Update Availability'!B46,"ddd d mmm")&" | "&TEXT('Update Availability'!D46,"£0")&" | "&UPPER('Update Availability'!E46) -> Fri 2 Jul - Mon 5 Jul | £600 | AVAILABLE | E37: =TEXT('Update Availability'!A55,"ddd d mmm")&" - "&TEXT('Update Availability'!B55,"ddd d mmm")&" | "&TEXT('Update Availability'!D55,"£0")&" | "&UPPER('Update Availability'!E55) -> Mon 2 Aug - Fri 6 Aug | £600 | BOOKED | I37: =TEXT('Update Availability'!A64,"ddd d mmm")&" - "&TEXT('Update Availability'!B64,"ddd d mmm")&" | "&TEXT('Update Availability'!D64,"£0")&" | "&UPPER('Update Availability'!E64) -> Fri 3 Sep - Mon 6 Sep | £450 | AVAILABLE
A38: =TEXT('Update Availability'!A47,"ddd d mmm")&" - "&TEXT('Update Availability'!B47,"ddd d mmm")&" | "&TEXT('Update Availability'!D47,"£0")&" | "&UPPER('Update Availability'!E47) -> Mon 5 Jul - Fri 9 Jul | £600 | AVAILABLE | E38: =TEXT('Update Availability'!A56,"ddd d mmm")&" - "&TEXT('Update Availability'!B56,"ddd d mmm")&" | "&TEXT('Update Availability'!D56,"£0")&" | "&UPPER('Update Availability'!E56) -> Fri 6 Aug - Mon 9 Aug | £600 | AVAILABLE | I38: =TEXT('Update Availability'!A65,"ddd d mmm")&" - "&TEXT('Update Availability'!B65,"ddd d mmm")&" | "&TEXT('Update Availability'!D65,"£0")&" | "&UPPER('Update Availability'!E65) -> Mon 6 Sep - Fri 10 Sep | £450 | AVAILABLE
A39: =TEXT('Update Availability'!A48,"ddd d mmm")&" - "&TEXT('Update Availability'!B48,"ddd d mmm")&" | "&TEXT('Update Availability'!D48,"£0")&" | "&UPPER('Update Availability'!E48) -> Fri 9 Jul - Mon 12 Jul | £600 | AVAILABLE | E39: =TEXT('Update Availability'!A57,"ddd d mmm")&" - "&TEXT('Update Availability'!B57,"ddd d mmm")&" | "&TEXT('Update Availability'!D57,"£0")&" | "&UPPER('Update Availability'!E57) -> Mon 9 Aug - Fri 13 Aug | £600 | BOOKED | I39: =TEXT('Update Availability'!A66,"ddd d mmm")&" - "&TEXT('Update Availability'!B66,"ddd d mmm")&" | "&TEXT('Update Availability'!D66,"£0")&" | "&UPPER('Update Availability'!E66) -> Fri 10 Sep - Mon 13 Sep | £450 | AVAILABLE
A40: =TEXT('Update Availability'!A49,"ddd d mmm")&" - "&TEXT('Update Availability'!B49,"ddd d mmm")&" | "&TEXT('Update Availability'!D49,"£0")&" | "&UPPER('Update Availability'!E49) -> Mon 12 Jul - Fri 16 Jul | £600 | AVAILABLE | E40: =TEXT('Update Availability'!A58,"ddd d mmm")&" - "&TEXT('Update Availability'!B58,"ddd d mmm")&" | "&TEXT('Update Availability'!D58,"£0")&" | "&UPPER('Update Availability'!E58) -> Fri 13 Aug - Mon 16 Aug | £600 | AVAILABLE | I40: =TEXT('Update Availability'!A67,"ddd d mmm")&" - "&TEXT('Update Availability'!B67,"ddd d mmm")&" | "&TEXT('Update Availability'!D67,"£0")&" | "&UPPER('Update Availability'!E67) -> Mon 13 Sep - Fri 17 Sep | £450 | AVAILABLE
A41: =TEXT('Update Availability'!A50,"ddd d mmm")&" - "&TEXT('Update Availability'!B50,"ddd d mmm")&" | "&TEXT('Update Availability'!D50,"£0")&" | "&UPPER('Update Availability'!E50) -> Fri 16 Jul - Mon 19 Jul | £600 | AVAILABLE | E41: =TEXT('Update Availability'!A59,"ddd d mmm")&" - "&TEXT('Update Availability'!B59,"ddd d mmm")&" | "&TEXT('Update Availability'!D59,"£0")&" | "&UPPER('Update Availability'!E59) -> Mon 16 Aug - Fri 20 Aug | £600 | BOOKED | I41: =TEXT('Update Availability'!A68,"ddd d mmm")&" - "&TEXT('Update Availability'!B68,"ddd d mmm")&" | "&TEXT('Update Availability'!D68,"£0")&" | "&UPPER('Update Availability'!E68) -> Fri 17 Sep - Mon 20 Sep | £450 | AVAILABLE
A42: =TEXT('Update Availability'!A51,"ddd d mmm")&" - "&TEXT('Update Availability'!B51,"ddd d mmm")&" | "&TEXT('Update Availability'!D51,"£0")&" | "&UPPER('Update Availability'!E51) -> Mon 19 Jul - Fri 23 Jul | £600 | AVAILABLE | E42: =TEXT('Update Availability'!A60,"ddd d mmm")&" - "&TEXT('Update Availability'!B60,"ddd d mmm")&" | "&TEXT('Update Availability'!D60,"£0")&" | "&UPPER('Update Availability'!E60) -> Fri 20 Aug - Mon 23 Aug | £600 | BOOKED | I42: =TEXT('Update Availability'!A69,"ddd d mmm")&" - "&TEXT('Update Availability'!B69,"ddd d mmm")&" | "&TEXT('Update Availability'!D69,"£0")&" | "&UPPER('Update Availability'!E69) -> Mon 20 Sep - Fri 24 Sep | £450 | AVAILABLE
A43: =TEXT('Update Availability'!A52,"ddd d mmm")&" - "&TEXT('Update Availability'!B52,"ddd d mmm")&" | "&TEXT('Update Availability'!D52,"£0")&" | "&UPPER('Update Availability'!E52) -> Fri 23 Jul - Mon 26 Jul | £600 | AVAILABLE | E43: =TEXT('Update Availability'!A61,"ddd d mmm")&" - "&TEXT('Update Availability'!B61,"ddd d mmm")&" | "&TEXT('Update Availability'!D61,"£0")&" | "&UPPER('Update Availability'!E61) -> Mon 23 Aug - Fri 27 Aug | £600 | BOOKED | I43: =TEXT('Update Availability'!A70,"ddd d mmm")&" - "&TEXT('Update Availability'!B70,"ddd d mmm")&" | "&TEXT('Update Availability'!D70,"£0")&" | "&UPPER('Update Availability'!E70) -> Fri 24 Sep - Mon 27 Sep | £450 | AVAILABLE
A44: =TEXT('Update Availability'!A53,"ddd d mmm")&" - "&TEXT('Update Availability'!B53,"ddd d mmm")&" | "&TEXT('Update Availability'!D53,"£0")&" | "&UPPER('Update Availability'!E53) -> Mon 26 Jul - Fri 30 Jul | £600 | AVAILABLE | E44: =TEXT('Update Availability'!A62,"ddd d mmm")&" - "&TEXT('Update Availability'!B62,"ddd d mmm")&" | "&TEXT('Update Availability'!D62,"£0")&" | "&UPPER('Update Availability'!E62) -> Fri 27 Aug - Mon 30 Aug | £600 | BOOKED | I44: =TEXT('Update Availability'!A71,"ddd d mmm")&" - "&TEXT('Update Availability'!B71,"ddd d mmm")&" | "&TEXT('Update Availability'!D71,"£0")&" | "&UPPER('Update Availability'!E71) -> Mon 27 Sep - Fri 1 Oct | £450 | AVAILABLE
A45: =TEXT('Update Availability'!A54,"ddd d mmm")&" - "&TEXT('Update Availability'!B54,"ddd d mmm")&" | "&TEXT('Update Availability'!D54,"£0")&" | "&UPPER('Update Availability'!E54) -> Fri 30 Jul - Mon 2 Aug | £600 | BOOKED | E45: =TEXT('Update Availability'!A63,"ddd d mmm")&" - "&TEXT('Update Availability'!B63,"ddd d mmm")&" | "&TEXT('Update Availability'!D63,"£0")&" | "&UPPER('Update Availability'!E63) -> Mon 30 Aug - Fri 3 Sep | £600 | AVAILABLE
A46: =COUNTIF('Update Availability'!E46:E54,"Available")&" of 9 stays available" -> 8 of 9 stays available | E46: =COUNTIF('Update Availability'!E55:E63,"Available")&" of 9 stays available" -> 3 of 9 stays available | I46: =COUNTIF('Update Availability'!E64:E71,"Available")&" of 8 stays available" -> 8 of 8 stays available
A49: OCTOBER | E49: NOVEMBER | I49: DECEMBER
A50: =TEXT('Update Availability'!A72,"ddd d mmm")&" - "&TEXT('Update Availability'!B72,"ddd d mmm")&" | "&TEXT('Update Availability'!D72,"£0")&" | "&UPPER('Update Availability'!E72) -> Fri 1 Oct - Mon 4 Oct | £450 | AVAILABLE | E50: =TEXT('Update Availability'!A81,"ddd d mmm")&" - "&TEXT('Update Availability'!B81,"ddd d mmm")&" | "&TEXT('Update Availability'!D81,"£0")&" | "&UPPER('Update Availability'!E81) -> Mon 1 Nov - Fri 5 Nov | £500 | AVAILABLE | I50: =TEXT('Update Availability'!A90,"ddd d mmm")&" - "&TEXT('Update Availability'!B90,"ddd d mmm")&" | "&TEXT('Update Availability'!D90,"£0")&" | "&UPPER('Update Availability'!E90) -> Fri 3 Dec - Mon 6 Dec | £300 | AVAILABLE
A51: =TEXT('Update Availability'!A73,"ddd d mmm")&" - "&TEXT('Update Availability'!B73,"ddd d mmm")&" | "&TEXT('Update Availability'!D73,"£0")&" | "&UPPER('Update Availability'!E73) -> Mon 4 Oct - Fri 8 Oct | £450 | AVAILABLE | E51: =TEXT('Update Availability'!A82,"ddd d mmm")&" - "&TEXT('Update Availability'!B82,"ddd d mmm")&" | "&TEXT('Update Availability'!D82,"£0")&" | "&UPPER('Update Availability'!E82) -> Fri 5 Nov - Mon 8 Nov | £300 | AVAILABLE | I51: =TEXT('Update Availability'!A91,"ddd d mmm")&" - "&TEXT('Update Availability'!B91,"ddd d mmm")&" | "&TEXT('Update Availability'!D91,"£0")&" | "&UPPER('Update Availability'!E91) -> Mon 6 Dec - Fri 10 Dec | £300 | AVAILABLE
A52: =TEXT('Update Availability'!A74,"ddd d mmm")&" - "&TEXT('Update Availability'!B74,"ddd d mmm")&" | "&TEXT('Update Availability'!D74,"£0")&" | "&UPPER('Update Availability'!E74) -> Fri 8 Oct - Mon 11 Oct | £450 | AVAILABLE | E52: =TEXT('Update Availability'!A83,"ddd d mmm")&" - "&TEXT('Update Availability'!B83,"ddd d mmm")&" | "&TEXT('Update Availability'!D83,"£0")&" | "&UPPER('Update Availability'!E83) -> Mon 8 Nov - Fri 12 Nov | £300 | AVAILABLE | I52: =TEXT('Update Availability'!A92,"ddd d mmm")&" - "&TEXT('Update Availability'!B92,"ddd d mmm")&" | "&TEXT('Update Availability'!D92,"£0")&" | "&UPPER('Update Availability'!E92) -> Fri 10 Dec - Mon 13 Dec | £300 | AVAILABLE
A53: =TEXT('Update Availability'!A75,"ddd d mmm")&" - "&TEXT('Update Availability'!B75,"ddd d mmm")&" | "&TEXT('Update Availability'!D75,"£0")&" | "&UPPER('Update Availability'!E75) -> Mon 11 Oct - Fri 15 Oct | £450 | AVAILABLE | E53: =TEXT('Update Availability'!A84,"ddd d mmm")&" - "&TEXT('Update Availability'!B84,"ddd d mmm")&" | "&TEXT('Update Availability'!D84,"£0")&" | "&UPPER('Update Availability'!E84) -> Fri 12 Nov - Mon 15 Nov | £300 | AVAILABLE | I53: =TEXT('Update Availability'!A93,"ddd d mmm")&" - "&TEXT('Update Availability'!B93,"ddd d mmm")&" | "&TEXT('Update Availability'!D93,"£0")&" | "&UPPER('Update Availability'!E93) -> Mon 13 Dec - Fri 17 Dec | £300 | AVAILABLE
A54: =TEXT('Update Availability'!A76,"ddd d mmm")&" - "&TEXT('Update Availability'!B76,"ddd d mmm")&" | "&TEXT('Update Availability'!D76,"£0")&" | "&UPPER('Update Availability'!E76) -> Fri 15 Oct - Mon 18 Oct | £450 | AVAILABLE | E54: =TEXT('Update Availability'!A85,"ddd d mmm")&" - "&TEXT('Update Availability'!B85,"ddd d mmm")&" | "&TEXT('Update Availability'!D85,"£0")&" | "&UPPER('Update Availability'!E85) -> Mon 15 Nov - Fri 19 Nov | £300 | AVAILABLE | I54: =TEXT('Update Availability'!A94,"ddd d mmm")&" - "&TEXT('Update Availability'!B94,"ddd d mmm")&" | "&TEXT('Update Availability'!D94,"£0")&" | "&UPPER('Update Availability'!E94) -> Fri 17 Dec - Mon 20 Dec | £400 | AVAILABLE
A55: =TEXT('Update Availability'!A77,"ddd d mmm")&" - "&TEXT('Update Availability'!B77,"ddd d mmm")&" | "&TEXT('Update Availability'!D77,"£0")&" | "&UPPER('Update Availability'!E77) -> Mon 18 Oct - Fri 22 Oct | £450 | AVAILABLE | E55: =TEXT('Update Availability'!A86,"ddd d mmm")&" - "&TEXT('Update Availability'!B86,"ddd d mmm")&" | "&TEXT('Update Availability'!D86,"£0")&" | "&UPPER('Update Availability'!E86) -> Fri 19 Nov - Mon 22 Nov | £300 | AVAILABLE | I55: =TEXT('Update Availability'!A95,"ddd d mmm")&" - "&TEXT('Update Availability'!B95,"ddd d mmm")&" | "&TEXT('Update Availability'!D95,"£0")&" | "&UPPER('Update Availability'!E95) -> Mon 20 Dec - Fri 24 Dec | £400 | AVAILABLE
A56: =TEXT('Update Availability'!A78,"ddd d mmm")&" - "&TEXT('Update Availability'!B78,"ddd d mmm")&" | "&TEXT('Update Availability'!D78,"£0")&" | "&UPPER('Update Availability'!E78) -> Fri 22 Oct - Mon 25 Oct | £500 | AVAILABLE | E56: =TEXT('Update Availability'!A87,"ddd d mmm")&" - "&TEXT('Update Availability'!B87,"ddd d mmm")&" | "&TEXT('Update Availability'!D87,"£0")&" | "&UPPER('Update Availability'!E87) -> Mon 22 Nov - Fri 26 Nov | £300 | AVAILABLE | I56: =TEXT('Update Availability'!A96,"ddd d mmm")&" - "&TEXT('Update Availability'!B96,"ddd d mmm")&" | "&TEXT('Update Availability'!D96,"£0")&" | "&UPPER('Update Availability'!E96) -> Fri 24 Dec - Mon 27 Dec | £400 | AVAILABLE
A57: =TEXT('Update Availability'!A79,"ddd d mmm")&" - "&TEXT('Update Availability'!B79,"ddd d mmm")&" | "&TEXT('Update Availability'!D79,"£0")&" | "&UPPER('Update Availability'!E79) -> Mon 25 Oct - Fri 29 Oct | £500 | AVAILABLE | E57: =TEXT('Update Availability'!A88,"ddd d mmm")&" - "&TEXT('Update Availability'!B88,"ddd d mmm")&" | "&TEXT('Update Availability'!D88,"£0")&" | "&UPPER('Update Availability'!E88) -> Fri 26 Nov - Mon 29 Nov | £300 | AVAILABLE | I57: =TEXT('Update Availability'!A97,"ddd d mmm")&" - "&TEXT('Update Availability'!B97,"ddd d mmm")&" | "&TEXT('Update Availability'!D97,"£0")&" | "&UPPER('Update Availability'!E97) -> Mon 27 Dec - Fri 31 Dec | £400 | AVAILABLE
A58: =TEXT('Update Availability'!A80,"ddd d mmm")&" - "&TEXT('Update Availability'!B80,"ddd d mmm")&" | "&TEXT('Update Availability'!D80,"£0")&" | "&UPPER('Update Availability'!E80) -> Fri 29 Oct - Mon 1 Nov | £500 | AVAILABLE | E58: =TEXT('Update Availability'!A89,"ddd d mmm")&" - "&TEXT('Update Availability'!B89,"ddd d mmm")&" | "&TEXT('Update Availability'!D89,"£0")&" | "&UPPER('Update Availability'!E89) -> Mon 29 Nov - Fri 3 Dec | £300 | AVAILABLE | I58: =TEXT('Update Availability'!A98,"ddd d mmm")&" - "&TEXT('Update Availability'!B98,"ddd d mmm")&" | "&TEXT('Update Availability'!D98,"£0")&" | "&UPPER('Update Availability'!E98) -> Fri 31 Dec - Mon 3 Jan | £400 | AVAILABLE
A59: =COUNTIF('Update Availability'!E72:E80,"Available")&" of 9 stays available" -> 9 of 9 stays available | E59: =COUNTIF('Update Availability'!E81:E89,"Available")&" of 9 stays available" -> 9 of 9 stays available | I59: =COUNTIF('Update Availability'!E90:E98,"Available")&" of 9 stays available" -> 9 of 9 stays available

Sheet Find a Stay
B1: Find a Stay
B4: Enter Date: | D4: 46432
B7: Arrival | D7: =IFERROR(INDEX('Update Availability'!A$6:A$98,MATCH(D4,'Update Availability'!A$6:A$98,1)),"") -> 46430
B8: Departure | D8: =IFERROR(INDEX('Update Availability'!B$6:B$98,MATCH(D4,'Update Availability'!A$6:A$98,1)),"") -> 46433
B9: Stay Type | D9: =IFERROR(INDEX('Update Availability'!C$6:C$98,MATCH(D4,'Update Availability'!A$6:A$98,1)),"") -> Weekend Break
B10: Price | D10: =IFERROR(INDEX('Update Availability'!D$6:D$98,MATCH(D4,'Update Availability'!A$6:A$98,1)),"") -> 400
B11: Status | D11: =IFERROR(INDEX('Update Availability'!E$6:E$98,MATCH(D4,'Update Availability'!A$6:A$98,1)),"") -> Booked
B14: To request a booking, please use the booking form quoting the arrival and departure dates shown above.

Sheet February
A1: February 2027
A3: Prices shown are for the complete stay. Availability is updated from the public status register.
A5: AVAILABLE | E5: PROVISIONALLY HELD | I5: BOOKED
A7: PARK CLOSED | E7: PARK CLOSED | I7: PARK CLOSED
A12: =UPPER(TEXT('Update Availability'!A6,"ddd d mmm")&" - "&TEXT('Update Availability'!B6,"ddd d mmm"))&CHAR(10)&'Update Availability'!C6&CHAR(10)&TEXT('Update Availability'!D6,"£0")&CHAR(10)&UPPER('Update Availability'!E6) -> FRI 12 FEB - MON 15 FEB Weekend Break £400 BOOKED | E12: =UPPER(TEXT('Update Availability'!A7,"ddd d mmm")&" - "&TEXT('Update Availability'!B7,"ddd d mmm"))&CHAR(10)&'Update Availability'!C7&CHAR(10)&TEXT('Update Availability'!D7,"£0")&CHAR(10)&UPPER('Update Availability'!E7) -> MON 15 FEB - FRI 19 FEB Midweek Break £400 AVAILABLE | I12: =UPPER(TEXT('Update Availability'!A8,"ddd d mmm")&" - "&TEXT('Update Availability'!B8,"ddd d mmm"))&CHAR(10)&'Update Availability'!C8&CHAR(10)&TEXT('Update Availability'!D8,"£0")&CHAR(10)&UPPER('Update Availability'!E8) -> FRI 19 FEB - MON 22 FEB Weekend Break £400 AVAILABLE
A17: =UPPER(TEXT('Update Availability'!A9,"ddd d mmm")&" - "&TEXT('Update Availability'!B9,"ddd d mmm"))&CHAR(10)&'Update Availability'!C9&CHAR(10)&TEXT('Update Availability'!D9,"£0")&CHAR(10)&UPPER('Update Availability'!E9) -> MON 22 FEB - FRI 26 FEB Midweek Break £400 AVAILABLE | E17: =UPPER(TEXT('Update Availability'!A10,"ddd d mmm")&" - "&TEXT('Update Availability'!B10,"ddd d mmm"))&CHAR(10)&'Update Availability'!C10&CHAR(10)&TEXT('Update Availability'!D10,"£0")&CHAR(10)&UPPER('Update Availability'!E10) -> FRI 26 FEB - MON 1 MAR Weekend Break £300 AVAILABLE
A24: Booking pattern: Friday to Monday for weekend breaks, and Monday to Friday for midweek breaks.

Sheet March
A1: March 2027
A3: Prices shown are for the complete stay. Availability is updated from the public status register.
A5: AVAILABLE | E5: PROVISIONALLY HELD | I5: BOOKED
A7: =UPPER(TEXT('Update Availability'!A11,"ddd d mmm")&" - "&TEXT('Update Availability'!B11,"ddd d mmm"))&CHAR(10)&'Update Availability'!C11&CHAR(10)&TEXT('Update Availability'!D11,"£0")&CHAR(10)&UPPER('Update Availability'!E11) -> MON 1 MAR - FRI 5 MAR Midweek Break £300 AVAILABLE | E7: =UPPER(TEXT('Update Availability'!A12,"ddd d mmm")&" - "&TEXT('Update Availability'!B12,"ddd d mmm"))&CHAR(10)&'Update Availability'!C12&CHAR(10)&TEXT('Update Availability'!D12,"£0")&CHAR(10)&UPPER('Update Availability'!E12) -> FRI 5 MAR - MON 8 MAR Weekend Break £300 AVAILABLE | I7: =UPPER(TEXT('Update Availability'!A13,"ddd d mmm")&" - "&TEXT('Update Availability'!B13,"ddd d mmm"))&CHAR(10)&'Update Availability'!C13&CHAR(10)&TEXT('Update Availability'!D13,"£0")&CHAR(10)&UPPER('Update Availability'!E13) -> MON 8 MAR - FRI 12 MAR Midweek Break £300 AVAILABLE
A12: =UPPER(TEXT('Update Availability'!A14,"ddd d mmm")&" - "&TEXT('Update Availability'!B14,"ddd d mmm"))&CHAR(10)&'Update Availability'!C14&CHAR(10)&TEXT('Update Availability'!D14,"£0")&CHAR(10)&UPPER('Update Availability'!E14) -> FRI 12 MAR - MON 15 MAR Weekend Break £300 AVAILABLE | E12: =UPPER(TEXT('Update Availability'!A15,"ddd d mmm")&" - "&TEXT('Update Availability'!B15,"ddd d mmm"))&CHAR(10)&'Update Availability'!C15&CHAR(10)&TEXT('Update Availability'!D15,"£0")&CHAR(10)&UPPER('Update Availability'!E15) -> MON 15 MAR - FRI 19 MAR Midweek Break £300 AVAILABLE | I12: =UPPER(TEXT('Update Availability'!A16,"ddd d mmm")&" - "&TEXT('Update Availability'!B16,"ddd d mmm"))&CHAR(10)&'Update Availability'!C16&CHAR(10)&TEXT('Update Availability'!D16,"£0")&CHAR(10)&UPPER('Update Availability'!E16) -> FRI 19 MAR - MON 22 MAR Weekend Break £300 AVAILABLE
A17: =UPPER(TEXT('Update Availability'!A17,"ddd d mmm")&" - "&TEXT('Update Availability'!B17,"ddd d mmm"))&CHAR(10)&'Update Availability'!C17&CHAR(10)&TEXT('Update Availability'!D17,"£0")&CHAR(10)&UPPER('Update Availability'!E17) -> MON 22 MAR - FRI 26 MAR Midweek Break £300 AVAILABLE | E17: =UPPER(TEXT('Update Availability'!A18,"ddd d mmm")&" - "&TEXT('Update Availability'!B18,"ddd d mmm"))&CHAR(10)&'Update Availability'!C18&CHAR(10)&TEXT('Update Availability'!D18,"£0")&CHAR(10)&UPPER('Update Availability'!E18) -> FRI 26 MAR - MON 29 MAR Weekend Break £500 BOOKED | I17: =UPPER(TEXT('Update Availability'!A19,"ddd d mmm")&" - "&TEXT('Update Availability'!B19,"ddd d mmm"))&CHAR(10)&'Update Availability'!C19&CHAR(10)&TEXT('Update Availability'!D19,"£0")&CHAR(10)&UPPER('Update Availability'!E19) -> MON 29 MAR - FRI 2 APR Midweek Break £500 BOOKED
A24: Booking pattern: Friday to Monday for weekend breaks, and Monday to Friday for midweek breaks.

Sheet April
A1: April 2027
A3: Prices shown are for the complete stay. Availability is updated from the public status register.
A5: AVAILABLE | E5: PROVISIONALLY HELD | I5: BOOKED
A7: =UPPER(TEXT('Update Availability'!A20,"ddd d mmm")&" - "&TEXT('Update Availability'!B20,"ddd d mmm"))&CHAR(10)&'Update Availability'!C20&CHAR(10)&TEXT('Update Availability'!D20,"£0")&CHAR(10)&UPPER('Update Availability'!E20) -> FRI 2 APR - MON 5 APR Weekend Break £500 AVAILABLE | E7: =UPPER(TEXT('Update Availability'!A21,"ddd d mmm")&" - "&TEXT('Update Availability'!B21,"ddd d mmm"))&CHAR(10)&'Update Availability'!C21&CHAR(10)&TEXT('Update Availability'!D21,"£0")&CHAR(10)&UPPER('Update Availability'!E21) -> MON 5 APR - FRI 9 APR Midweek Break £500 PROVISIONALLY HELD | I7: =UPPER(TEXT('Update Availability'!A22,"ddd d mmm")&" - "&TEXT('Update Availability'!B22,"ddd d mmm"))&CHAR(10)&'Update Availability'!C22&CHAR(10)&TEXT('Update Availability'!D22,"£0")&CHAR(10)&UPPER('Update Availability'!E22) -> FRI 9 APR - MON 12 APR Weekend Break £500 AVAILABLE
A12: =UPPER(TEXT('Update Availability'!A23,"ddd d mmm")&" - "&TEXT('Update Availability'!B23,"ddd d mmm"))&CHAR(10)&'Update Availability'!C23&CHAR(10)&TEXT('Update Availability'!D23,"£0")&CHAR(10)&UPPER('Update Availability'!E23) -> MON 12 APR - FRI 16 APR Midweek Break £500 AVAILABLE | E12: =UPPER(TEXT('Update Availability'!A24,"ddd d mmm")&" - "&TEXT('Update Availability'!B24,"ddd d mmm"))&CHAR(10)&'Update Availability'!C24&CHAR(10)&TEXT('Update Availability'!D24,"£0")&CHAR(10)&UPPER('Update Availability'!E24) -> FRI 16 APR - MON 19 APR Weekend Break £300 AVAILABLE | I12: =UPPER(TEXT('Update Availability'!A25,"ddd d mmm")&" - "&TEXT('Update Availability'!B25,"ddd d mmm"))&CHAR(10)&'Update Availability'!C25&CHAR(10)&TEXT('Update Availability'!D25,"£0")&CHAR(10)&UPPER('Update Availability'!E25) -> MON 19 APR - FRI 23 APR Midweek Break £300 AVAILABLE
A17: =UPPER(TEXT('Update Availability'!A26,"ddd d mmm")&" - "&TEXT('Update Availability'!B26,"ddd d mmm"))&CHAR(10)&'Update Availability'!C26&CHAR(10)&TEXT('Update Availability'!D26,"£0")&CHAR(10)&UPPER('Update Availability'!E26) -> FRI 23 APR - MON 26 APR Weekend Break £300 AVAILABLE | E17: =UPPER(TEXT('Update Availability'!A27,"ddd d mmm")&" - "&TEXT('Update Availability'!B27,"ddd d mmm"))&CHAR(10)&'Update Availability'!C27&CHAR(10)&TEXT('Update Availability'!D27,"£0")&CHAR(10)&UPPER('Update Availability'!E27) -> MON 26 APR - FRI 30 APR Midweek Break £300 AVAILABLE | I17: =UPPER(TEXT('Update Availability'!A28,"ddd d mmm")&" - "&TEXT('Update Availability'!B28,"ddd d mmm"))&CHAR(10)&'Update Availability'!C28&CHAR(10)&TEXT('Update Availability'!D28,"£0")&CHAR(10)&UPPER('Update Availability'!E28) -> FRI 30 APR - MON 3 MAY Weekend Break £300 AVAILABLE
A24: Booking pattern: Friday to Monday for weekend breaks, and Monday to Friday for midweek breaks.

Sheet May
A1: May 2027
A3: Prices shown are for the complete stay. Availability is updated from the public status register.
A5: AVAILABLE | E5: PROVISIONALLY HELD | I5: BOOKED
A7: =UPPER(TEXT('Update Availability'!A29,"ddd d mmm")&" - "&TEXT('Update Availability'!B29,"ddd d mmm"))&CHAR(10)&'Update Availability'!C29&CHAR(10)&TEXT('Update Availability'!D29,"£0")&CHAR(10)&UPPER('Update Availability'!E29) -> MON 3 MAY - FRI 7 MAY Midweek Break £300 AVAILABLE | E7: =UPPER(TEXT('Update Availability'!A30,"ddd d mmm")&" - "&TEXT('Update Availability'!B30,"ddd d mmm"))&CHAR(10)&'Update Availability'!C30&CHAR(10)&TEXT('Update Availability'!D30,"£0")&CHAR(10)&UPPER('Update Availability'!E30) -> FRI 7 MAY - MON 10 MAY Weekend Break £300 BOOKED | I7: =UPPER(TEXT('Update Availability'!A31,"ddd d mmm")&" - "&TEXT('Update Availability'!B31,"ddd d mmm"))&CHAR(10)&'Update Availability'!C31&CHAR(10)&TEXT('Update Availability'!D31,"£0")&CHAR(10)&UPPER('Update Availability'!E31) -> MON 10 MAY - FRI 14 MAY Midweek Break £300 AVAILABLE
A12: =UPPER(TEXT('Update Availability'!A32,"ddd d mmm")&" - "&TEXT('Update Availability'!B32,"ddd d mmm"))&CHAR(10)&'Update Availability'!C32&CHAR(10)&TEXT('Update Availability'!D32,"£0")&CHAR(10)&UPPER('Update Availability'!E32) -> FRI 14 MAY - MON 17 MAY Weekend Break £300 AVAILABLE | E12: =UPPER(TEXT('Update Availability'!A33,"ddd d mmm")&" - "&TEXT('Update Availability'!B33,"ddd d mmm"))&CHAR(10)&'Update Availability'!C33&CHAR(10)&TEXT('Update Availability'!D33,"£0")&CHAR(10)&UPPER('Update Availability'!E33) -> MON 17 MAY - FRI 21 MAY Midweek Break £300 AVAILABLE | I12: =UPPER(TEXT('Update Availability'!A34,"ddd d mmm")&" - "&TEXT('Update Availability'!B34,"ddd d mmm"))&CHAR(10)&'Update Availability'!C34&CHAR(10)&TEXT('Update Availability'!D34,"£0")&CHAR(10)&UPPER('Update Availability'!E34) -> FRI 21 MAY - MON 24 MAY Weekend Break £300 BOOKED
A17: =UPPER(TEXT('Update Availability'!A35,"ddd d mmm")&" - "&TEXT('Update Availability'!B35,"ddd d mmm"))&CHAR(10)&'Update Availability'!C35&CHAR(10)&TEXT('Update Availability'!D35,"£0")&CHAR(10)&UPPER('Update Availability'!E35) -> MON 24 MAY - FRI 28 MAY Midweek Break £300 AVAILABLE | E17: =UPPER(TEXT('Update Availability'!A36,"ddd d mmm")&" - "&TEXT('Update Availability'!B36,"ddd d mmm"))&CHAR(10)&'Update Availability'!C36&CHAR(10)&TEXT('Update Availability'!D36,"£0")&CHAR(10)&UPPER('Update Availability'!E36) -> FRI 28 MAY - MON 31 MAY Weekend Break £500 BOOKED | I17: =UPPER(TEXT('Update Availability'!A37,"ddd d mmm")&" - "&TEXT('Update Availability'!B37,"ddd d mmm"))&CHAR(10)&'Update Availability'!C37&CHAR(10)&TEXT('Update Availability'!D37,"£0")&CHAR(10)&UPPER('Update Availability'!E37) -> MON 31 MAY - FRI 4 JUN Midweek Break £500 BOOKED
A24: Booking pattern: Friday to Monday for weekend breaks, and Monday to Friday for midweek breaks.

Sheet June
A1: June 2027
A3: Prices shown are for the complete stay. Availability is updated from the public status register.
A5: AVAILABLE | E5: PROVISIONALLY HELD | I5: BOOKED
A7: =UPPER(TEXT('Update Availability'!A38,"ddd d mmm")&" - "&TEXT('Update Availability'!B38,"ddd d mmm"))&CHAR(10)&'Update Availability'!C38&CHAR(10)&TEXT('Update Availability'!D38,"£0")&CHAR(10)&UPPER('Update Availability'!E38) -> FRI 4 JUN - MON 7 JUN Weekend Break £500 BOOKED | E7: =UPPER(TEXT('Update Availability'!A39,"ddd d mmm")&" - "&TEXT('Update Availability'!B39,"ddd d mmm"))&CHAR(10)&'Update Availability'!C39&CHAR(10)&TEXT('Update Availability'!D39,"£0")&CHAR(10)&UPPER('Update Availability'!E39) -> MON 7 JUN - FRI 11 JUN Midweek Break £500 BOOKED | I7: =UPPER(TEXT('Update Availability'!A40,"ddd d mmm")&" - "&TEXT('Update Availability'!B40,"ddd d mmm"))&CHAR(10)&'Update Availability'!C40&CHAR(10)&TEXT('Update Availability'!D40,"£0")&CHAR(10)&UPPER('Update Availability'!E40) -> FRI 11 JUN - MON 14 JUN Weekend Break £450 AVAILABLE
A12: =UPPER(TEXT('Update Availability'!A41,"ddd d mmm")&" - "&TEXT('Update Availability'!B41,"ddd d mmm"))&CHAR(10)&'Update Availability'!C41&CHAR(10)&TEXT('Update Availability'!D41,"£0")&CHAR(10)&UPPER('Update Availability'!E41) -> MON 14 JUN - FRI 18 JUN Midweek Break £450 AVAILABLE | E12: =UPPER(TEXT('Update Availability'!A42,"ddd d mmm")&" - "&TEXT('Update Availability'!B42,"ddd d mmm"))&CHAR(10)&'Update Availability'!C42&CHAR(10)&TEXT('Update Availability'!D42,"£0")&CHAR(10)&UPPER('Update Availability'!E42) -> FRI 18 JUN - MON 21 JUN Weekend Break £450 AVAILABLE | I12: =UPPER(TEXT('Update Availability'!A43,"ddd d mmm")&" - "&TEXT('Update Availability'!B43,"ddd d mmm"))&CHAR(10)&'Update Availability'!C43&CHAR(10)&TEXT('Update Availability'!D43,"£0")&CHAR(10)&UPPER('Update Availability'!E43) -> MON 21 JUN - FRI 25 JUN Midweek Break £450 AVAILABLE
A17: =UPPER(TEXT('Update Availability'!A44,"ddd d mmm")&" - "&TEXT('Update Availability'!B44,"ddd d mmm"))&CHAR(10)&'Update Availability'!C44&CHAR(10)&TEXT('Update Availability'!D44,"£0")&CHAR(10)&UPPER('Update Availability'!E44) -> FRI 25 JUN - MON 28 JUN Weekend Break £450 AVAILABLE | E17: =UPPER(TEXT('Update Availability'!A45,"ddd d mmm")&" - "&TEXT('Update Availability'!B45,"ddd d mmm"))&CHAR(10)&'Update Availability'!C45&CHAR(10)&TEXT('Update Availability'!D45,"£0")&CHAR(10)&UPPER('Update Availability'!E45) -> MON 28 JUN - FRI 2 JUL Midweek Break £450 BOOKED
A24: Booking pattern: Friday to Monday for weekend breaks, and Monday to Friday for midweek breaks.

Sheet July
A1: July 2027
A3: Prices shown are for the complete stay. Availability is updated from the public status register.
A5: AVAILABLE | E5: PROVISIONALLY HELD | I5: BOOKED
A7: =UPPER(TEXT('Update Availability'!A46,"ddd d mmm")&" - "&TEXT('Update Availability'!B46,"ddd d mmm"))&CHAR(10)&'Update Availability'!C46&CHAR(10)&TEXT('Update Availability'!D46,"£0")&CHAR(10)&UPPER('Update Availability'!E46) -> FRI 2 JUL - MON 5 JUL Weekend Break £600 AVAILABLE | E7: =UPPER(TEXT('Update Availability'!A47,"ddd d mmm")&" - "&TEXT('Update Availability'!B47,"ddd d mmm"))&CHAR(10)&'Update Availability'!C47&CHAR(10)&TEXT('Update Availability'!D47,"£0")&CHAR(10)&UPPER('Update Availability'!E47) -> MON 5 JUL - FRI 9 JUL Midweek Break £600 AVAILABLE | I7: =UPPER(TEXT('Update Availability'!A48,"ddd d mmm")&" - "&TEXT('Update Availability'!B48,"ddd d mmm"))&CHAR(10)&'Update Availability'!C48&CHAR(10)&TEXT('Update Availability'!D48,"£0")&CHAR(10)&UPPER('Update Availability'!E48) -> FRI 9 JUL - MON 12 JUL Weekend Break £600 AVAILABLE
A12: =UPPER(TEXT('Update Availability'!A49,"ddd d mmm")&" - "&TEXT('Update Availability'!B49,"ddd d mmm"))&CHAR(10)&'Update Availability'!C49&CHAR(10)&TEXT('Update Availability'!D49,"£0")&CHAR(10)&UPPER('Update Availability'!E49) -> MON 12 JUL - FRI 16 JUL Midweek Break £600 AVAILABLE | E12: =UPPER(TEXT('Update Availability'!A50,"ddd d mmm")&" - "&TEXT('Update Availability'!B50,"ddd d mmm"))&CHAR(10)&'Update Availability'!C50&CHAR(10)&TEXT('Update Availability'!D50,"£0")&CHAR(10)&UPPER('Update Availability'!E50) -> FRI 16 JUL - MON 19 JUL Weekend Break £600 AVAILABLE | I12: =UPPER(TEXT('Update Availability'!A51,"ddd d mmm")&" - "&TEXT('Update Availability'!B51,"ddd d mmm"))&CHAR(10)&'Update Availability'!C51&CHAR(10)&TEXT('Update Availability'!D51,"£0")&CHAR(10)&UPPER('Update Availability'!E51) -> MON 19 JUL - FRI 23 JUL Midweek Break £600 AVAILABLE
A17: =UPPER(TEXT('Update Availability'!A52,"ddd d mmm")&" - "&TEXT('Update Availability'!B52,"ddd d mmm"))&CHAR(10)&'Update Availability'!C52&CHAR(10)&TEXT('Update Availability'!D52,"£0")&CHAR(10)&UPPER('Update Availability'!E52) -> FRI 23 JUL - MON 26 JUL Weekend Break £600 AVAILABLE | E17: =UPPER(TEXT('Update Availability'!A53,"ddd d mmm")&" - "&TEXT('Update Availability'!B53,"ddd d mmm"))&CHAR(10)&'Update Availability'!C53&CHAR(10)&TEXT('Update Availability'!D53,"£0")&CHAR(10)&UPPER('Update Availability'!E53) -> MON 26 JUL - FRI 30 JUL Midweek Break £600 AVAILABLE | I17: =UPPER(TEXT('Update Availability'!A54,"ddd d mmm")&" - "&TEXT('Update Availability'!B54,"ddd d mmm"))&CHAR(10)&'Update Availability'!C54&CHAR(10)&TEXT('Update Availability'!D54,"£0")&CHAR(10)&UPPER('Update Availability'!E54) -> FRI 30 JUL - MON 2 AUG Weekend Break £600 BOOKED
A24: Booking pattern: Friday to Monday for weekend breaks, and Monday to Friday for midweek breaks.

Sheet August
A1: August 2027
A3: Prices shown are for the complete stay. Availability is updated from the public status register.
A5: AVAILABLE | E5: PROVISIONALLY HELD | I5: BOOKED
A7: =UPPER(TEXT('Update Availability'!A55,"ddd d mmm")&" - "&TEXT('Update Availability'!B55,"ddd d mmm"))&CHAR(10)&'Update Availability'!C55&CHAR(10)&TEXT('Update Availability'!D55,"£0")&CHAR(10)&UPPER('Update Availability'!E55) -> MON 2 AUG - FRI 6 AUG Midweek Break £600 BOOKED | E7: =UPPER(TEXT('Update Availability'!A56,"ddd d mmm")&" - "&TEXT('Update Availability'!B56,"ddd d mmm"))&CHAR(10)&'Update Availability'!C56&CHAR(10)&TEXT('Update Availability'!D56,"£0")&CHAR(10)&UPPER('Update Availability'!E56) -> FRI 6 AUG - MON 9 AUG Weekend Break £600 AVAILABLE | I7: =UPPER(TEXT('Update Availability'!A57,"ddd d mmm")&" - "&TEXT('Update Availability'!B57,"ddd d mmm"))&CHAR(10)&'Update Availability'!C57&CHAR(10)&TEXT('Update Availability'!D57,"£0")&CHAR(10)&UPPER('Update Availability'!E57) -> MON 9 AUG - FRI 13 AUG Midweek Break £600 BOOKED
A12: =UPPER(TEXT('Update Availability'!A58,"ddd d mmm")&" - "&TEXT('Update Availability'!B58,"ddd d mmm"))&CHAR(10)&'Update Availability'!C58&CHAR(10)&TEXT('Update Availability'!D58,"£0")&CHAR(10)&UPPER('Update Availability'!E58) -> FRI 13 AUG - MON 16 AUG Weekend Break £600 AVAILABLE | E12: =UPPER(TEXT('Update Availability'!A59,"ddd d mmm")&" - "&TEXT('Update Availability'!B59,"ddd d mmm"))&CHAR(10)&'Update Availability'!C59&CHAR(10)&TEXT('Update Availability'!D59,"£0")&CHAR(10)&UPPER('Update Availability'!E59) -> MON 16 AUG - FRI 20 AUG Midweek Break £600 BOOKED | I12: =UPPER(TEXT('Update Availability'!A60,"ddd d mmm")&" - "&TEXT('Update Availability'!B60,"ddd d mmm"))&CHAR(10)&'Update Availability'!C60&CHAR(10)&TEXT('Update Availability'!D60,"£0")&CHAR(10)&UPPER('Update Availability'!E60) -> FRI 20 AUG - MON 23 AUG Weekend Break £600 BOOKED
A17: =UPPER(TEXT('Update Availability'!A61,"ddd d mmm")&" - "&TEXT('Update Availability'!B61,"ddd d mmm"))&CHAR(10)&'Update Availability'!C61&CHAR(10)&TEXT('Update Availability'!D61,"£0")&CHAR(10)&UPPER('Update Availability'!E61) -> MON 23 AUG - FRI 27 AUG Midweek Break £600 BOOKED | E17: =UPPER(TEXT('Update Availability'!A62,"ddd d mmm")&" - "&TEXT('Update Availability'!B62,"ddd d mmm"))&CHAR(10)&'Update Availability'!C62&CHAR(10)&TEXT('Update Availability'!D62,"£0")&CHAR(10)&UPPER('Update Availability'!E62) -> FRI 27 AUG - MON 30 AUG Weekend Break £600 BOOKED | I17: =UPPER(TEXT('Update Availability'!A63,"ddd d mmm")&" - "&TEXT('Update Availability'!B63,"ddd d mmm"))&CHAR(10)&'Update Availability'!C63&CHAR(10)&TEXT('Update Availability'!D63,"£0")&CHAR(10)&UPPER('Update Availability'!E63) -> MON 30 AUG - FRI 3 SEP Midweek Break £600 AVAILABLE
A24: Booking pattern: Friday to Monday for weekend breaks, and Monday to Friday for midweek breaks.

Sheet September
A1: September 2027
A3: Prices shown are for the complete stay. Availability is updated from the public status register.
A5: AVAILABLE | E5: PROVISIONALLY HELD | I5: BOOKED
A7: =UPPER(TEXT('Update Availability'!A64,"ddd d mmm")&" - "&TEXT('Update Availability'!B64,"ddd d mmm"))&CHAR(10)&'Update Availability'!C64&CHAR(10)&TEXT('Update Availability'!D64,"£0")&CHAR(10)&UPPER('Update Availability'!E64) -> FRI 3 SEP - MON 6 SEP Weekend Break £450 AVAILABLE | E7: =UPPER(TEXT('Update Availability'!A65,"ddd d mmm")&" - "&TEXT('Update Availability'!B65,"ddd d mmm"))&CHAR(10)&'Update Availability'!C65&CHAR(10)&TEXT('Update Availability'!D65,"£0")&CHAR(10)&UPPER('Update Availability'!E65) -> MON 6 SEP - FRI 10 SEP Midweek Break £450 AVAILABLE | I7: =UPPER(TEXT('Update Availability'!A66,"ddd d mmm")&" - "&TEXT('Update Availability'!B66,"ddd d mmm"))&CHAR(10)&'Update Availability'!C66&CHAR(10)&TEXT('Update Availability'!D66,"£0")&CHAR(10)&UPPER('Update Availability'!E66) -> FRI 10 SEP - MON 13 SEP Weekend Break £450 AVAILABLE
A12: =UPPER(TEXT('Update Availability'!A67,"ddd d mmm")&" - "&TEXT('Update Availability'!B67,"ddd d mmm"))&CHAR(10)&'Update Availability'!C67&CHAR(10)&TEXT('Update Availability'!D67,"£0")&CHAR(10)&UPPER('Update Availability'!E67) -> MON 13 SEP - FRI 17 SEP Midweek Break £450 AVAILABLE | E12: =UPPER(TEXT('Update Availability'!A68,"ddd d mmm")&" - "&TEXT('Update Availability'!B68,"ddd d mmm"))&CHAR(10)&'Update Availability'!C68&CHAR(10)&TEXT('Update Availability'!D68,"£0")&CHAR(10)&UPPER('Update Availability'!E68) -> FRI 17 SEP - MON 20 SEP Weekend Break £450 AVAILABLE | I12: =UPPER(TEXT('Update Availability'!A69,"ddd d mmm")&" - "&TEXT('Update Availability'!B69,"ddd d mmm"))&CHAR(10)&'Update Availability'!C69&CHAR(10)&TEXT('Update Availability'!D69,"£0")&CHAR(10)&UPPER('Update Availability'!E69) -> MON 20 SEP - FRI 24 SEP Midweek Break £450 AVAILABLE
A17: =UPPER(TEXT('Update Availability'!A70,"ddd d mmm")&" - "&TEXT('Update Availability'!B70,"ddd d mmm"))&CHAR(10)&'Update Availability'!C70&CHAR(10)&TEXT('Update Availability'!D70,"£0")&CHAR(10)&UPPER('Update Availability'!E70) -> FRI 24 SEP - MON 27 SEP Weekend Break £450 AVAILABLE | E17: =UPPER(TEXT('Update Availability'!A71,"ddd d mmm")&" - "&TEXT('Update Availability'!B71,"ddd d mmm"))&CHAR(10)&'Update Availability'!C71&CHAR(10)&TEXT('Update Availability'!D71,"£0")&CHAR(10)&UPPER('Update Availability'!E71) -> MON 27 SEP - FRI 1 OCT Midweek Break £450 AVAILABLE
A24: Booking pattern: Friday to Monday for weekend breaks, and Monday to Friday for midweek breaks.

Sheet October
A1: October 2027
A3: Prices shown are for the complete stay. Availability is updated from the public status register.
A5: AVAILABLE | E5: PROVISIONALLY HELD | I5: BOOKED
A7: =UPPER(TEXT('Update Availability'!A72,"ddd d mmm")&" - "&TEXT('Update Availability'!B72,"ddd d mmm"))&CHAR(10)&'Update Availability'!C72&CHAR(10)&TEXT('Update Availability'!D72,"£0")&CHAR(10)&UPPER('Update Availability'!E72) -> FRI 1 OCT - MON 4 OCT Weekend Break £450 AVAILABLE | E7: =UPPER(TEXT('Update Availability'!A73,"ddd d mmm")&" - "&TEXT('Update Availability'!B73,"ddd d mmm"))&CHAR(10)&'Update Availability'!C73&CHAR(10)&TEXT('Update Availability'!D73,"£0")&CHAR(10)&UPPER('Update Availability'!E73) -> MON 4 OCT - FRI 8 OCT Midweek Break £450 AVAILABLE | I7: =UPPER(TEXT('Update Availability'!A74,"ddd d mmm")&" - "&TEXT('Update Availability'!B74,"ddd d mmm"))&CHAR(10)&'Update Availability'!C74&CHAR(10)&TEXT('Update Availability'!D74,"£0")&CHAR(10)&UPPER('Update Availability'!E74) -> FRI 8 OCT - MON 11 OCT Weekend Break £450 AVAILABLE
A12: =UPPER(TEXT('Update Availability'!A75,"ddd d mmm")&" - "&TEXT('Update Availability'!B75,"ddd d mmm"))&CHAR(10)&'Update Availability'!C75&CHAR(10)&TEXT('Update Availability'!D75,"£0")&CHAR(10)&UPPER('Update Availability'!E75) -> MON 11 OCT - FRI 15 OCT Midweek Break £450 AVAILABLE | E12: =UPPER(TEXT('Update Availability'!A76,"ddd d mmm")&" - "&TEXT('Update Availability'!B76,"ddd d mmm"))&CHAR(10)&'Update Availability'!C76&CHAR(10)&TEXT('Update Availability'!D76,"£0")&CHAR(10)&UPPER('Update Availability'!E76) -> FRI 15 OCT - MON 18 OCT Weekend Break £450 AVAILABLE | I12: =UPPER(TEXT('Update Availability'!A77,"ddd d mmm")&" - "&TEXT('Update Availability'!B77,"ddd d mmm"))&CHAR(10)&'Update Availability'!C77&CHAR(10)&TEXT('Update Availability'!D77,"£0")&CHAR(10)&UPPER('Update Availability'!E77) -> MON 18 OCT - FRI 22 OCT Midweek Break £450 AVAILABLE
A17: =UPPER(TEXT('Update Availability'!A78,"ddd d mmm")&" - "&TEXT('Update Availability'!B78,"ddd d mmm"))&CHAR(10)&'Update Availability'!C78&CHAR(10)&TEXT('Update Availability'!D78,"£0")&CHAR(10)&UPPER('Update Availability'!E78) -> FRI 22 OCT - MON 25 OCT Weekend Break £500 AVAILABLE | E17: =UPPER(TEXT('Update Availability'!A79,"ddd d mmm")&" - "&TEXT('Update Availability'!B79,"ddd d mmm"))&CHAR(10)&'Update Availability'!C79&CHAR(10)&TEXT('Update Availability'!D79,"£0")&CHAR(10)&UPPER('Update Availability'!E79) -> MON 25 OCT - FRI 29 OCT Midweek Break £500 AVAILABLE | I17: =UPPER(TEXT('Update Availability'!A80,"ddd d mmm")&" - "&TEXT('Update Availability'!B80,"ddd d mmm"))&CHAR(10)&'Update Availability'!C80&CHAR(10)&TEXT('Update Availability'!D80,"£0")&CHAR(10)&UPPER('Update Availability'!E80) -> FRI 29 OCT - MON 1 NOV Weekend Break £500 AVAILABLE
A24: Booking pattern: Friday to Monday for weekend breaks, and Monday to Friday for midweek breaks.

Sheet November
A1: November 2027
A3: Prices shown are for the complete stay. Availability is updated from the public status register.
A5: AVAILABLE | E5: PROVISIONALLY HELD | I5: BOOKED
A7: =UPPER(TEXT('Update Availability'!A81,"ddd d mmm")&" - "&TEXT('Update Availability'!B81,"ddd d mmm"))&CHAR(10)&'Update Availability'!C81&CHAR(10)&TEXT('Update Availability'!D81,"£0")&CHAR(10)&UPPER('Update Availability'!E81) -> MON 1 NOV - FRI 5 NOV Midweek Break £500 AVAILABLE | E7: =UPPER(TEXT('Update Availability'!A82,"ddd d mmm")&" - "&TEXT('Update Availability'!B82,"ddd d mmm"))&CHAR(10)&'Update Availability'!C82&CHAR(10)&TEXT('Update Availability'!D82,"£0")&CHAR(10)&UPPER('Update Availability'!E82) -> FRI 5 NOV - MON 8 NOV Weekend Break £300 AVAILABLE | I7: =UPPER(TEXT('Update Availability'!A83,"ddd d mmm")&" - "&TEXT('Update Availability'!B83,"ddd d mmm"))&CHAR(10)&'Update Availability'!C83&CHAR(10)&TEXT('Update Availability'!D83,"£0")&CHAR(10)&UPPER('Update Availability'!E83) -> MON 8 NOV - FRI 12 NOV Midweek Break £300 AVAILABLE
A12: =UPPER(TEXT('Update Availability'!A84,"ddd d mmm")&" - "&TEXT('Update Availability'!B84,"ddd d mmm"))&CHAR(10)&'Update Availability'!C84&CHAR(10)&TEXT('Update Availability'!D84,"£0")&CHAR(10)&UPPER('Update Availability'!E84) -> FRI 12 NOV - MON 15 NOV Weekend Break £300 AVAILABLE | E12: =UPPER(TEXT('Update Availability'!A85,"ddd d mmm")&" - "&TEXT('Update Availability'!B85,"ddd d mmm"))&CHAR(10)&'Update Availability'!C85&CHAR(10)&TEXT('Update Availability'!D85,"£0")&CHAR(10)&UPPER('Update Availability'!E85) -> MON 15 NOV - FRI 19 NOV Midweek Break £300 AVAILABLE | I12: =UPPER(TEXT('Update Availability'!A86,"ddd d mmm")&" - "&TEXT('Update Availability'!B86,"ddd d mmm"))&CHAR(10)&'Update Availability'!C86&CHAR(10)&TEXT('Update Availability'!D86,"£0")&CHAR(10)&UPPER('Update Availability'!E86) -> FRI 19 NOV - MON 22 NOV Weekend Break £300 AVAILABLE
A17: =UPPER(TEXT('Update Availability'!A87,"ddd d mmm")&" - "&TEXT('Update Availability'!B87,"ddd d mmm"))&CHAR(10)&'Update Availability'!C87&CHAR(10)&TEXT('Update Availability'!D87,"£0")&CHAR(10)&UPPER('Update Availability'!E87) -> MON 22 NOV - FRI 26 NOV Midweek Break £300 AVAILABLE | E17: =UPPER(TEXT('Update Availability'!A88,"ddd d mmm")&" - "&TEXT('Update Availability'!B88,"ddd d mmm"))&CHAR(10)&'Update Availability'!C88&CHAR(10)&TEXT('Update Availability'!D88,"£0")&CHAR(10)&UPPER('Update Availability'!E88) -> FRI 26 NOV - MON 29 NOV Weekend Break £300 AVAILABLE | I17: =UPPER(TEXT('Update Availability'!A89,"ddd d mmm")&" - "&TEXT('Update Availability'!B89,"ddd d mmm"))&CHAR(10)&'Update Availability'!C89&CHAR(10)&TEXT('Update Availability'!D89,"£0")&CHAR(10)&UPPER('Update Availability'!E89) -> MON 29 NOV - FRI 3 DEC Midweek Break £300 AVAILABLE
A24: Booking pattern: Friday to Monday for weekend breaks, and Monday to Friday for midweek breaks.

Sheet December
A1: December 2027
A3: Prices shown are for the complete stay. Availability is updated from the public status register.
A5: AVAILABLE | E5: PROVISIONALLY HELD | I5: BOOKED
A7: =UPPER(TEXT('Update Availability'!A90,"ddd d mmm")&" - "&TEXT('Update Availability'!B90,"ddd d mmm"))&CHAR(10)&'Update Availability'!C90&CHAR(10)&TEXT('Update Availability'!D90,"£0")&CHAR(10)&UPPER('Update Availability'!E90) -> FRI 3 DEC - MON 6 DEC Weekend Break £300 AVAILABLE | E7: =UPPER(TEXT('Update Availability'!A91,"ddd d mmm")&" - "&TEXT('Update Availability'!B91,"ddd d mmm"))&CHAR(10)&'Update Availability'!C91&CHAR(10)&TEXT('Update Availability'!D91,"£0")&CHAR(10)&UPPER('Update Availability'!E91) -> MON 6 DEC - FRI 10 DEC Midweek Break £300 AVAILABLE | I7: =UPPER(TEXT('Update Availability'!A92,"ddd d mmm")&" - "&TEXT('Update Availability'!B92,"ddd d mmm"))&CHAR(10)&'Update Availability'!C92&CHAR(10)&TEXT('Update Availability'!D92,"£0")&CHAR(10)&UPPER('Update Availability'!E92) -> FRI 10 DEC - MON 13 DEC Weekend Break £300 AVAILABLE
A12: =UPPER(TEXT('Update Availability'!A93,"ddd d mmm")&" - "&TEXT('Update Availability'!B93,"ddd d mmm"))&CHAR(10)&'Update Availability'!C93&CHAR(10)&TEXT('Update Availability'!D93,"£0")&CHAR(10)&UPPER('Update Availability'!E93) -> MON 13 DEC - FRI 17 DEC Midweek Break £300 AVAILABLE | E12: =UPPER(TEXT('Update Availability'!A94,"ddd d mmm")&" - "&TEXT('Update Availability'!B94,"ddd d mmm"))&CHAR(10)&'Update Availability'!C94&CHAR(10)&TEXT('Update Availability'!D94,"£0")&CHAR(10)&UPPER('Update Availability'!E94) -> FRI 17 DEC - MON 20 DEC Weekend Break £400 AVAILABLE | I12: =UPPER(TEXT('Update Availability'!A95,"ddd d mmm")&" - "&TEXT('Update Availability'!B95,"ddd d mmm"))&CHAR(10)&'Update Availability'!C95&CHAR(10)&TEXT('Update Availability'!D95,"£0")&CHAR(10)&UPPER('Update Availability'!E95) -> MON 20 DEC - FRI 24 DEC Midweek Break £400 AVAILABLE
A17: =UPPER(TEXT('Update Availability'!A96,"ddd d mmm")&" - "&TEXT('Update Availability'!B96,"ddd d mmm"))&CHAR(10)&'Update Availability'!C96&CHAR(10)&TEXT('Update Availability'!D96,"£0")&CHAR(10)&UPPER('Update Availability'!E96) -> FRI 24 DEC - MON 27 DEC Weekend Break £400 AVAILABLE | E17: =UPPER(TEXT('Update Availability'!A97,"ddd d mmm")&" - "&TEXT('Update Availability'!B97,"ddd d mmm"))&CHAR(10)&'Update Availability'!C97&CHAR(10)&TEXT('Update Availability'!D97,"£0")&CHAR(10)&UPPER('Update Availability'!E97) -> MON 27 DEC - FRI 31 DEC Midweek Break £400 AVAILABLE | I17: =UPPER(TEXT('Update Availability'!A98,"ddd d mmm")&" - "&TEXT('Update Availability'!B98,"ddd d mmm"))&CHAR(10)&'Update Availability'!C98&CHAR(10)&TEXT('Update Availability'!D98,"£0")&CHAR(10)&UPPER('Update Availability'!E98) -> FRI 31 DEC - MON 3 JAN Weekend Break £400 AVAILABLE
A24: Booking pattern: Friday to Monday for weekend breaks, and Monday to Friday for midweek breaks.

Sheet Update Availability
A1: Update 2027 Availability
A3: Use the Status dropdown only. All public-facing pages update automatically.
A5: Arrival | B5: Departure | C5: Stay | D5: Price | E5: Status | F5: Period
A6: 46430 | B6: 46433 | C6: Weekend Break | D6: 400 | E6: Booked | F6: Holiday Rate
A7: 46433 | B7: 46437 | C7: Midweek Break | D7: 400 | E7: Available | F7: Holiday Rate
A8: 46437 | B8: 46440 | C8: Weekend Break | D8: 400 | E8: Available | F8: Holiday Rate
A9: 46440 | B9: 46444 | C9: Midweek Break | D9: 400 | E9: Available | F9: Holiday Rate
A10: 46444 | B10: 46447 | C10: Weekend Break | D10: 300 | E10: Available | F10: Off-Peak
A11: 46447 | B11: 46451 | C11: Midweek Break | D11: 300 | E11: Available | F11: Off-Peak
A12: 46451 | B12: 46454 | C12: Weekend Break | D12: 300 | E12: Available | F12: Off-Peak
A13: 46454 | B13: 46458 | C13: Midweek Break | D13: 300 | E13: Available | F13: Off-Peak
A14: 46458 | B14: 46461 | C14: Weekend Break | D14: 300 | E14: Available | F14: Off-Peak
A15: 46461 | B15: 46465 | C15: Midweek Break | D15: 300 | E15: Available | F15: Off-Peak
A16: 46465 | B16: 46468 | C16: Weekend Break | D16: 300 | E16: Available | F16: Off-Peak
A17: 46468 | B17: 46472 | C17: Midweek Break | D17: 300 | E17: Available | F17: Off-Peak
... A98: 46752 | B98: 46755 | C98: Weekend Break | D98: 400 | E98: Available | F98: Holiday Rate
